BEGIN:VCALENDAR
VERSION:2.0
PRODID:-//52.177.168.151//NONSGML kigkonsult.se iCalcreator 2.26.9//
CALSCALE:GREGORIAN
METHOD:PUBLISH
X-WR-CALNAME:FAMM
X-WR-CALDESC:Families Against Mandatory Minimums
X-FROM-URL:https://famm.org
X-WR-TIMEZONE:America/New_York
BEGIN:VTIMEZONE
TZID:America/New_York
X-LIC-LOCATION:America/New_York
BEGIN:STANDARD
DTSTART:20211107T020000
TZOFFSETFROM:-0400
TZOFFSETTO:-0500
RDATE:20221106T020000
TZNAME:EST
END:STANDARD
BEGIN:DAYLIGHT
DTSTART:20210314T020000
TZOFFSETFROM:-0500
TZOFFSETTO:-0400
RDATE:20220313T020000
TZNAME:EDT
END:DAYLIGHT
END:VTIMEZONE
BEGIN:VEVENT
UID:ai1ec-20026@famm.org
DTSTAMP:20210627T150438Z
CATEGORIES:
CONTACT:FAMM\; famm@famm.org
DESCRIPTION:
DTSTART;TZID=America/New_York:20180710T140000
DTEND;TZID=America/New_York:20180710T153000
GEO:+38.907192;-77.036871
LOCATION:U.S. Capitol @ Washington\, DC\, USA
SEQUENCE:0
SUMMARY:Families for Justice Reform Now
URL:https://famm.org/event/families-justice-reform-now/
X-COST-TYPE:free
END:VEVENT
END:VCALENDAR
